BEGIN:VCALENDAR
VERSION:2.0
PRODID:-//wp-events-plugin.com//7.2.3.1//EN
TZID:Europe/Berlin
X-WR-TIMEZONE:Europe/Berlin
BEGIN:VEVENT
UID:39@21maldrei.de
DTSTART;TZID=Europe/Berlin:20250206T200000
DTEND;TZID=Europe/Berlin:20250206T220000
DTSTAMP:20250117T225724Z
URL:https://www.21maldrei.de/events/versicherung-fuer-kinder-mit-behinderu
 ng/
SUMMARY:Versicherung für Kinder mit Behinderungen
DESCRIPTION:In diesem Online-Seminar erklärt Experte Dennis Juraschuk welc
 her Versicherungsschutz für Kinder mit Behinderung sinnvoll sind und was 
 es dabei zu beachten gilt.
ATTACH;FMTTYPE=image/jpeg:https://www.21maldrei.de/wp-content/uploads/2024
 /11/Versicherungen-fuer-Kinder-mit-DS.jpg
END:VEVENT
BEGIN:VTIMEZONE
TZID:Europe/Berlin
X-LIC-LOCATION:Europe/Berlin
BEGIN:STANDARD
DTSTART:20241027T020000
TZOFFSETFROM:+0200
TZOFFSETTO:+0100
TZNAME:CET
END:STANDARD
END:VTIMEZONE
END:VCALENDAR