BEGIN:VCALENDAR
VERSION:2.0
PRODID:-//wp-events-plugin.com//7.2.3.1//EN
TZID:Europe/Berlin
X-WR-TIMEZONE:Europe/Berlin
BEGIN:VEVENT
UID:102@21maldrei.de
DTSTART;TZID=Europe/Berlin:20260321T110000
DTEND;TZID=Europe/Berlin:20260321T150000
DTSTAMP:20260317T200943Z
URL:https://www.21maldrei.de/events/welt-down-syndrom-tag-2026-aktionsstan
 d-drachenfeldschule-erbach-odenwald/
SUMMARY:Welt-Down-Syndrom-Tag 2026: Aktionsstand Drachenfeldschule Erbach -
  Odenwald
DESCRIPTION:21malDREI – Aktionsstand beim Frühlingsfest\nIm Rahmen des F
 rühlingsfestes mit Ostermarkt an der Drachenfeldschule lädt der Verein 2
 1malDREI herzlich zu einem Mitmach-Aktionsstand ein.\nIm Zeichen des Welt-
 Down-Syndrom-Tages gestalten die großen und kleinen Besucher bunte Socken
 -Malvorlagen\, die vor Ort kreativ bemalt und anschließend aufgehängt we
 rden. Jede Socke wird dabei zu einem kleinen Kunstwerk – und zu einem Ze
 ichen für Vielfalt\, Einzigartigkeit und Zusammenhalt.\nDie Aktion greift
  die Idee der „bunten Socken“ auf\, die weltweit als Symbol für Mensc
 hen mit Down-Syndrom stehen. Sie machen darauf aufmerksam\, wie wertvoll U
 nterschiede sind und dass jeder Mensch ganz selbstverständlich dazugehör
 t.\nMit unserem Stand möchten wir ins Gespräch kommen\, informieren und 
 vor allem ein sichtbares Zeichen setzen.\nWir freuen uns auf viele kleine 
 und große Künstler\, auf Begegnungen und auf einen farbenfrohen Beitrag 
 zu einem besonderen Fest.\nDie Aktion wird von unserer Vorständin Katrin 
 organisiert.\n\nOrt:\nSchule am Drachenfeld\, Anne-Frank-Straße 5\, 64711
  Erbach\n\nWir freuen uns auf viele kleine und große Künstler\, auf Bege
 gnungen und auf einen farbenfrohen Beitrag zu einem besonderen Fest.\n\nEu
 er Vorstand von 21malDREI
ATTACH;FMTTYPE=image/jpeg:https://www.21maldrei.de/wp-content/uploads/2026
 /03/21malDREI-WDST-Aktionsstand-Drachenfeldschule.jpg
LOCATION:Schule am Drachenfeld\, Anne-Frank-Straße 5\, Erbach\, 64711\, De
 utschland
X-APPLE-STRUCTURED-LOCATION;VALUE=URI;X-ADDRESS=Anne-Frank-Straße 5\, Erba
 ch\, 64711\, Deutschland;X-APPLE-RADIUS=100;X-TITLE=Schule am Drachenfeld:
 geo:0,0
END:VEVENT
BEGIN:VTIMEZONE
TZID:Europe/Berlin
X-LIC-LOCATION:Europe/Berlin
BEGIN:STANDARD
DTSTART:20251026T020000
TZOFFSETFROM:+0200
TZOFFSETTO:+0100
TZNAME:CET
END:STANDARD
END:VTIMEZONE
END:VCALENDAR