BEGIN:VCALENDAR
VERSION:2.0
PRODID:-//wp-events-plugin.com//7.2.3.1//EN
TZID:Europe/Berlin
X-WR-TIMEZONE:Europe/Berlin
BEGIN:VEVENT
UID:101@21maldrei.de
DTSTART;TZID=Europe/Berlin:20260321T100000
DTEND;TZID=Europe/Berlin:20260321T130000
DTSTAMP:20260312T151555Z
URL:https://www.21maldrei.de/events/welt-down-syndrom-tag-2026-offener-spi
 eplatztreff/
SUMMARY:Welt-Down-Syndrom-Tag 2026: Offener Spieplatztreff
DESCRIPTION:21malDREI – Offener Spielplatztreff zum Welt-Down-Syndrom-Tag
  \n\nIm Rahmen des diesjährigen Welt-Down-Syndrom-Tags treffen sich unser
 e Familien mit jüngeren Kindern am Samstag\, 21.03.\, von 10:00 bis 13:00
  Uhr zu einem offenen Treff auf dem Spielplatz am Eichhörnchenpfad.\n\nDe
 r Treff wird von unserer Vorständin Stefania organisiert.\n\nOrt:\nSpielp
 latz am Eichhörnchenpfad / Ecke Rehstraße\, Frankfurt-Griesheim\n\nParke
 n:\nJägerallee 27\n\nGerne mitbringen:\n\n 	Bobbycars\n 	Fahrräder / Lau
 fräder\n 	Helme\n 	Picknickdecke\n 	kleine Snacks\n\nDer Treff ist als Se
 lbstversorger-Picknick geplant. Wir freuen uns auf einen schönen gemeinsa
 men Vormittag mit Spiel\, Austausch und Begegnung.\n\nWir freuen uns auf e
 uch und einen schönen Vormittag!\n\nEuer Vorstand von 21malDREI
ATTACH;FMTTYPE=image/jpeg:https://www.21maldrei.de/wp-content/uploads/2026
 /03/WDST-2026-offener-Spielplatz-Treff.jpeg
LOCATION:Spielplatz am Eichhörnchenpfad / Ecke Rehstraße\, Eichhörnchenp
 fad\, Frankfurt am Main\, Deutschland
X-APPLE-STRUCTURED-LOCATION;VALUE=URI;X-ADDRESS=Eichhörnchenpfad\, Frankfu
 rt am Main\, Deutschland;X-APPLE-RADIUS=100;X-TITLE=Spielplatz am Eichhör
 nchenpfad / Ecke Rehstraße:geo:0,0
END:VEVENT
BEGIN:VTIMEZONE
TZID:Europe/Berlin
X-LIC-LOCATION:Europe/Berlin
BEGIN:STANDARD
DTSTART:20251026T020000
TZOFFSETFROM:+0200
TZOFFSETTO:+0100
TZNAME:CET
END:STANDARD
END:VTIMEZONE
END:VCALENDAR