BEGIN:VCALENDAR
VERSION:2.0
PRODID:-//wp-events-plugin.com//7.2.3.1//EN
TZID:Europe/Berlin
X-WR-TIMEZONE:Europe/Berlin
BEGIN:VEVENT
UID:54@21maldrei.de
DTSTART;TZID=Europe/Berlin:20251116T110000
DTEND;TZID=Europe/Berlin:20251116T150000
DTSTAMP:20250527T214349Z
URL:https://www.21maldrei.de/events/winter-brunch-familientreffen/
SUMMARY:Winter-Brunch Familientreffen
DESCRIPTION:Einladung zum Winter Brunch – Gemeinsam genießen &amp\; Spa
 ß haben!\n\nLiebe Mitglieder\, Liebe Familien\,\n\nder Winter naht\, und 
 was gibt es Schöneres\, als sich in gemütlicher Runde zu einem genussvol
 len Brunch zu treffen? Noch bevor überall die Weihnachtsfeiern starten un
 d die Vorbereitungen auf diese besinnliche Jahreszeit überhand nehmen\, l
 aden wir euch herzlich zu unserem WINTER BRUNCH FAMILIEN TREFFEN ein!\n\n?
  Wann? Sonntag\, 16. November 2025\, ab 11:00 Uhr\n? Wo? Haus der Volksarb
 eit\, Frankfurt\, Eschenheimer Anlage 21\n\nFreut euch auf ein leckeres Mi
 tbring-Buffet\, zu dem jede*r etwas Köstliches beisteuern kann – ob sü
 ß oder herzhaft\, warm oder kalt. Wir freuen uns auf eine tolle Auswahl. 
 Für Kaffee\, alkoholfreien Punsch und Wasser sorgt 21malDREI.\n\nDamit si
 ch alle wohlfühlen und den Tag genießen können\, bereiten wir für die 
 Kids einen Spiel- und Bewegungsparcours vor\, während die Eltern in entsp
 annter Atmosphäre plaudern und genießen können.\n\n? Hinweis: Für den 
 reibungslosen Ablauf brauchen wir helfende Hände beim Auf- und Abbau. Bit
 te denkt daran\, bei der Buchung eure Unterstützung in einer der „Schic
 hten“ mit einzuplanen. (1 h vor oder zum\, Ende der Veranstaltung)\n\nLa
 sst uns gemeinsam einen wundervollen Vormittag verbringen – wir freuen u
 ns auf euch!\n\nHerzliche Grüße\nEuer Vorstand von 21malDREI\n\nP.S.: Zu
 r besseren Planbarkeit meldet euch bitte über die Buchungsfunktion an.
ATTACH;FMTTYPE=image/jpeg:https://www.21maldrei.de/wp-content/uploads/2025
 /03/Winter-Brunch-Familientreffen-Nov-25.jpg
LOCATION:Haus der Volksarbeit\, Eschenheimer Anlage 21\, Frankfurt am Main\
 , Hessen\, 60318\, Deutschland
X-APPLE-STRUCTURED-LOCATION;VALUE=URI;X-ADDRESS=Eschenheimer Anlage 21\, Fr
 ankfurt am Main\, Hessen\, 60318\, Deutschland;X-APPLE-RADIUS=100;X-TITLE=
 Haus der Volksarbeit:geo:0,0
END:VEVENT
BEGIN:VTIMEZONE
TZID:Europe/Berlin
X-LIC-LOCATION:Europe/Berlin
BEGIN:STANDARD
DTSTART:20251026T020000
TZOFFSETFROM:+0200
TZOFFSETTO:+0100
TZNAME:CET
END:STANDARD
END:VTIMEZONE
END:VCALENDAR