BEGIN:VCALENDAR
VERSION:2.0
PRODID:-//wp-events-plugin.com//7.2.3.1//EN
TZID:Europe/Berlin
X-WR-TIMEZONE:Europe/Berlin
BEGIN:VEVENT
UID:26@21maldrei.de
DTSTART;TZID=Europe/Berlin:20241120T200000
DTEND;TZID=Europe/Berlin:20241120T220000
DTSTAMP:20240613T064955Z
URL:https://www.21maldrei.de/events/zweiter-online-abend-frag-denise-2024/
SUMMARY:Zweiter Online-Abend "Frag Denise" 2024
DESCRIPTION:Unter dem Motto: "Frag Denise" bieten wir einer begrenzten Teil
 nehmerzahl den Raum\, die Zeit und einen geschützten Rahmen für all die 
 Fragen\, die uns in unserem Alltag als Eltern eines Kindes mit Down-Syndro
 m beschäftigen.\n\nReduzierter Kostenbeitrag für unsere Mitglieder (ents
 prechender Gutschein-Code wird Mitgliedern auf den üblichen Wegen bekannt
  gegeben).\n\nÜber die Referentin:\n\nDenise Hönninger  ist seit über 
 10 Jahren Logopädin und sieht ihren Schwerpunkt klar in der Arbeit mit Ki
 ndern mit Behinderung.\n\nDoch nicht nur das: Durch die große Expertise d
 er letzten Jahre sieht sie die Wichtigkeit in der Unterstützung von Erzie
 henden\, sowie der Beratung von Kolleg:innen und Pädagog:innen. Fragen\, 
 Ideen und Impulse rund um die Themen Logopädie\, Herausforderungen im All
 tag und adäquate Förderung finden bei ihr einen Platz.\n\nIm April 2022 
 macht sie mit der Gründung THESE LITTLE TALKS ein Herzensprojekt wahr und
  vermittelt so noch mehr Wissen und schärft den Blick von Menschen\, die 
 mit Kindern mit Behinderung leben\, arbeiten oder auf andere Art das groß
 e Glück haben deren Reise zu begleiten.\n\nGefördert durch die AOK – D
 ie Gesundheitskasse in Hessen.\n\n
ATTACH;FMTTYPE=image/jpeg:https://www.21maldrei.de/wp-content/uploads/2024
 /03/Frag-Denise-November.jpg
END:VEVENT
BEGIN:VTIMEZONE
TZID:Europe/Berlin
X-LIC-LOCATION:Europe/Berlin
BEGIN:STANDARD
DTSTART:20241027T020000
TZOFFSETFROM:+0200
TZOFFSETTO:+0100
TZNAME:CET
END:STANDARD
END:VTIMEZONE
END:VCALENDAR